Package: regutools Version: 1.18.0 Command: /Library/Frameworks/R.framework/Resources/bin/R CMD build --keep-empty-dirs --no-resave-data regutools StartedAt: 2025-02-03 21:39:07 -0500 (Mon, 03 Feb 2025) EndedAt: 2025-02-03 21:41:57 -0500 (Mon, 03 Feb 2025) EllapsedTime: 170.1 seconds RetCode: 0 Status: OK PackageFile: regutools_1.18.0.tar.gz PackageFileSize: 379 KiB