Package: regutools Version: 1.18.0 Command: chmod a+r regutools -R && F:\biocbuild\bbs-3.20-bioc\R\bin\R.exe CMD build --keep-empty-dirs --no-resave-data regutools StartedAt: 2025-02-03 21:37:02 -0500 (Mon, 03 Feb 2025) EndedAt: 2025-02-03 21:38:54 -0500 (Mon, 03 Feb 2025) EllapsedTime: 112.2 seconds RetCode: 0 Status: OK PackageFile: regutools_1.18.0.tar.gz PackageFileSize: 359.8 KiB