Package: regutools Version: 1.18.0 Command: /home/biocbuild/R/R/bin/R CMD INSTALL regutools StartedAt: 2025-02-03 21:03:06 -0000 (Mon, 03 Feb 2025) EndedAt: 2025-02-03 21:04:12 -0000 (Mon, 03 Feb 2025) EllapsedTime: 66.1 seconds RetCode: 0 Status: OK