Package: rexposome Version: 1.28.0 Command: /Library/Frameworks/R.framework/Resources/bin/R CMD check --install=check:rexposome.install-out.txt --library=/Library/Frameworks/R.framework/Resources/library --no-vignettes --timings rexposome_1.28.0.tar.gz StartedAt: 2025-02-01 06:31:35 -0500 (Sat, 01 Feb 2025) EndedAt: 2025-02-01 06:34:32 -0500 (Sat, 01 Feb 2025) EllapsedTime: 176.8 seconds RetCode: 0 Status: WARNINGS CheckDir: rexposome.Rcheck Warnings: 5