Package: rexposome Version: 1.28.0 Command: rm -rf rexposome.buildbin-libdir && mkdir rexposome.buildbin-libdir && F:\biocbuild\bbs-3.20-bioc\R\bin\R.exe CMD INSTALL --build --library=rexposome.buildbin-libdir rexposome_1.28.0.tar.gz StartedAt: 2025-02-04 09:19:46 -0500 (Tue, 04 Feb 2025) EndedAt: 2025-02-04 09:21:02 -0500 (Tue, 04 Feb 2025) EllapsedTime: 75.8 seconds RetCode: 0 Status: OK PackageFile: rexposome_1.28.0.zip PackageFileSize: 6.004 MiB