Package: rexposome Version: 1.28.0 Command: F:\biocbuild\bbs-3.20-bioc\R\bin\R.exe CMD INSTALL rexposome StartedAt: 2025-01-30 16:42:38 -0500 (Thu, 30 Jan 2025) EndedAt: 2025-01-30 16:43:55 -0500 (Thu, 30 Jan 2025) EllapsedTime: 76.8 seconds RetCode: 0 Status: OK