Package: rfPred Version: 1.44.0 Command: rm -rf rfPred.buildbin-libdir && mkdir rfPred.buildbin-libdir && /Users/biocbuild/BBS/utils/build-universal.sh rfPred_1.44.0.tar.gz /Library/Frameworks/R.framework/Resources/bin/R rfPred.buildbin-libdir StartedAt: 2025-02-04 13:59:21 -0500 (Tue, 04 Feb 2025) EndedAt: 2025-02-04 14:00:06 -0500 (Tue, 04 Feb 2025) EllapsedTime: 44.9 seconds RetCode: 0 Status: OK PackageFile: rfPred_1.44.0.tgz PackageFileSize: 1.076 MiB