Package: rfPred Version: 1.44.0 Command: /home/biocbuild/bbs-3.20-bioc/R/bin/R CMD build --keep-empty-dirs --no-resave-data --md5 rfPred StartedAt: 2025-02-03 18:58:21 -0500 (Mon, 03 Feb 2025) EndedAt: 2025-02-03 18:58:39 -0500 (Mon, 03 Feb 2025) EllapsedTime: 18.0 seconds RetCode: 0 Status: OK PackageFile: rfPred_1.44.0.tar.gz PackageFileSize: 1.053 MiB