Package: rfPred Version: 1.44.0 Command: rm -rf rfPred.buildbin-libdir && mkdir rfPred.buildbin-libdir && F:\biocbuild\bbs-3.20-bioc\R\bin\R.exe CMD INSTALL --build --library=rfPred.buildbin-libdir rfPred_1.44.0.tar.gz StartedAt: 2025-02-04 09:19:56 -0500 (Tue, 04 Feb 2025) EndedAt: 2025-02-04 09:20:13 -0500 (Tue, 04 Feb 2025) EllapsedTime: 17.1 seconds RetCode: 0 Status: OK PackageFile: rfPred_1.44.0.zip PackageFileSize: 1.084 MiB