Package: rfPred Version: 1.44.0 Command: chmod a+r rfPred -R && F:\biocbuild\bbs-3.20-bioc\R\bin\R.exe CMD build --keep-empty-dirs --no-resave-data rfPred StartedAt: 2025-02-03 21:38:52 -0500 (Mon, 03 Feb 2025) EndedAt: 2025-02-03 21:39:21 -0500 (Mon, 03 Feb 2025) EllapsedTime: 28.7 seconds RetCode: 0 Status: OK PackageFile: rfPred_1.44.0.tar.gz PackageFileSize: 1.054 MiB