Package: rfPred Version: 1.44.0 Command: /home/biocbuild/R/R/bin/R CMD build --keep-empty-dirs --no-resave-data rfPred StartedAt: 2025-02-04 02:14:02 -0000 (Tue, 04 Feb 2025) EndedAt: 2025-02-04 02:14:23 -0000 (Tue, 04 Feb 2025) EllapsedTime: 21.0 seconds RetCode: 0 Status: OK PackageFile: rfPred_1.44.0.tar.gz PackageFileSize: 1.045 MiB