Package: rfaRm Version: 1.18.0 Command: /Library/Frameworks/R.framework/Resources/bin/R CMD check --install=check:rfaRm.install-out.txt --library=/Library/Frameworks/R.framework/Resources/library --no-vignettes --timings rfaRm_1.18.0.tar.gz StartedAt: 2025-02-01 06:32:57 -0500 (Sat, 01 Feb 2025) EndedAt: 2025-02-01 06:35:09 -0500 (Sat, 01 Feb 2025) EllapsedTime: 131.9 seconds RetCode: 0 Status: OK CheckDir: rfaRm.Rcheck Warnings: 0