Package: rfaRm Version: 1.18.0 Command: /Library/Frameworks/R.framework/Resources/bin/R CMD INSTALL rfaRm StartedAt: 2025-02-03 17:53:39 -0500 (Mon, 03 Feb 2025) EndedAt: 2025-02-03 17:53:53 -0500 (Mon, 03 Feb 2025) EllapsedTime: 13.7 seconds RetCode: 0 Status: OK