Package: rfaRm Version: 1.18.0 Command: /home/biocbuild/R/R/bin/R CMD build --keep-empty-dirs --no-resave-data rfaRm StartedAt: 2024-11-20 03:20:03 -0000 (Wed, 20 Nov 2024) EndedAt: 2024-11-20 03:21:05 -0000 (Wed, 20 Nov 2024) EllapsedTime: 62.1 seconds RetCode: 1 Status: ERROR PackageFile: None PackageFileSize: NA