Package: rfaRm Version: 1.18.0 Command: /home/biocbuild/R/R/bin/R CMD INSTALL rfaRm StartedAt: 2024-11-19 21:24:33 -0000 (Tue, 19 Nov 2024) EndedAt: 2024-11-19 21:24:52 -0000 (Tue, 19 Nov 2024) EllapsedTime: 19.3 seconds RetCode: 0 Status: OK