Package: rfaRm Version: 1.18.0 Command: rm -rf rfaRm.buildbin-libdir && mkdir rfaRm.buildbin-libdir && /Users/biocbuild/BBS/utils/build-universal.sh rfaRm_1.18.0.tar.gz /Library/Frameworks/R.framework/Resources/bin/R rfaRm.buildbin-libdir StartedAt: 2025-01-31 13:30:35 -0500 (Fri, 31 Jan 2025) EndedAt: 2025-01-31 13:31:10 -0500 (Fri, 31 Jan 2025) EllapsedTime: 35.0 seconds RetCode: 0 Status: OK PackageFile: rfaRm_1.18.0.tgz PackageFileSize: 596.4 KiB