Package: rfaRm Version: 1.18.0 Command: /Library/Frameworks/R.framework/Resources/bin/R CMD build --keep-empty-dirs --no-resave-data rfaRm StartedAt: 2025-01-30 22:13:50 -0500 (Thu, 30 Jan 2025) EndedAt: 2025-01-30 22:15:12 -0500 (Thu, 30 Jan 2025) EllapsedTime: 82.1 seconds RetCode: 0 Status: OK PackageFile: rfaRm_1.18.0.tar.gz PackageFileSize: 560.9 KiB