Package: rfaRm Version: 1.18.0 Command: /Library/Frameworks/R.framework/Resources/bin/R CMD check --install=check:rfaRm.install-out.txt --library=/Library/Frameworks/R.framework/Resources/library --no-vignettes --timings rfaRm_1.18.0.tar.gz StartedAt: 2025-01-31 08:51:58 -0500 (Fri, 31 Jan 2025) EndedAt: 2025-01-31 08:55:45 -0500 (Fri, 31 Jan 2025) EllapsedTime: 227.0 seconds RetCode: 0 Status: OK CheckDir: rfaRm.Rcheck Warnings: 0