Package: rfaRm Version: 1.18.0 Command: chmod a+r rfaRm -R && F:\biocbuild\bbs-3.20-bioc\R\bin\R.exe CMD build --keep-empty-dirs --no-resave-data rfaRm StartedAt: 2025-01-30 21:22:45 -0500 (Thu, 30 Jan 2025) EndedAt: 2025-01-30 21:23:45 -0500 (Thu, 30 Jan 2025) EllapsedTime: 59.6 seconds RetCode: 0 Status: OK PackageFile: rfaRm_1.18.0.tar.gz PackageFileSize: 441.7 KiB