Package: rfaRm Version: 1.18.0 Command: F:\biocbuild\bbs-3.20-bioc\R\bin\R.exe CMD check --no-multiarch --install=check:rfaRm.install-out.txt --library=F:\biocbuild\bbs-3.20-bioc\R\library --no-vignettes --timings rfaRm_1.18.0.tar.gz StartedAt: 2025-01-31 05:40:19 -0500 (Fri, 31 Jan 2025) EndedAt: 2025-01-31 05:42:57 -0500 (Fri, 31 Jan 2025) EllapsedTime: 157.9 seconds RetCode: 0 Status: WARNINGS CheckDir: rfaRm.Rcheck Warnings: 3