Package: rfaRm Version: 1.18.0 Command: /home/biocbuild/R/R/bin/R CMD build --keep-empty-dirs --no-resave-data rfaRm StartedAt: 2025-01-31 02:07:50 -0000 (Fri, 31 Jan 2025) EndedAt: 2025-01-31 02:08:44 -0000 (Fri, 31 Jan 2025) EllapsedTime: 54.0 seconds RetCode: 0 Status: OK PackageFile: rfaRm_1.18.0.tar.gz PackageFileSize: 586.2 KiB