Package: rfaRm Version: 1.18.0 Command: /home/biocbuild/R/R/bin/R CMD check --install=check:rfaRm.install-out.txt --library=/home/biocbuild/R/R/site-library --no-vignettes --timings rfaRm_1.18.0.tar.gz StartedAt: 2025-01-31 09:39:18 -0000 (Fri, 31 Jan 2025) EndedAt: 2025-01-31 09:42:01 -0000 (Fri, 31 Jan 2025) EllapsedTime: 163.1 seconds RetCode: 0 Status: OK CheckDir: rfaRm.Rcheck Warnings: 0