Package: rfaRm Version: 1.18.0 Command: /home/biocbuild/R/R/bin/R CMD INSTALL rfaRm StartedAt: 2025-01-30 21:01:02 -0000 (Thu, 30 Jan 2025) EndedAt: 2025-01-30 21:01:20 -0000 (Thu, 30 Jan 2025) EllapsedTime: 17.9 seconds RetCode: 0 Status: OK