Package: rgoslin Version: 1.10.0 Command: /Library/Frameworks/R.framework/Resources/bin/R CMD check --install=check:rgoslin.install-out.txt --library=/Library/Frameworks/R.framework/Resources/library --no-vignettes --timings rgoslin_1.10.0.tar.gz StartedAt: 2025-02-05 07:23:15 -0500 (Wed, 05 Feb 2025) EndedAt: 2025-02-05 07:23:46 -0500 (Wed, 05 Feb 2025) EllapsedTime: 31.5 seconds RetCode: 0 Status: OK CheckDir: rgoslin.Rcheck Warnings: 0