Package: rgoslin Version: 1.10.0 Command: /Library/Frameworks/R.framework/Resources/bin/R CMD INSTALL rgoslin StartedAt: 2024-11-08 15:51:56 -0500 (Fri, 08 Nov 2024) EndedAt: 2024-11-08 15:52:43 -0500 (Fri, 08 Nov 2024) EllapsedTime: 46.9 seconds RetCode: 0 Status: OK