Package: rgoslin
Version: 1.10.0
Command: /Library/Frameworks/R.framework/Resources/bin/R CMD INSTALL rgoslin
StartedAt: 2024-11-19 15:47:07 -0500 (Tue, 19 Nov 2024)
EndedAt: 2024-11-19 15:49:37 -0500 (Tue, 19 Nov 2024)
EllapsedTime: 149.7 seconds
RetCode: 0
Status: OK