############################################################################## ############################################################################## ### ### Running command: ### ### rm -rf rgoslin.buildbin-libdir && mkdir rgoslin.buildbin-libdir && /Users/biocbuild/BBS/utils/build-universal.sh rgoslin_1.10.0.tar.gz /Library/Frameworks/R.framework/Resources/bin/R rgoslin.buildbin-libdir ### ############################################################################## ############################################################################## >>>>>>> >>>>>>> INSTALLATION WITH 'R CMD INSTALL --preclean --no-multiarch --library=rgoslin.buildbin-libdir rgoslin_1.10.0.tar.gz' >>>>>>> Warning in dir.create(tmpdir) : cannot create dir '/tmp/Rtmpj1FQe7/R.INSTALL104827d0b1a49', reason 'No space left on device' Error in tools:::.install_packages() : cannot create temporary directory