Package: rgoslin Version: 1.10.0 Command: /home/biocbuild/bbs-3.20-bioc/R/bin/R CMD check --install=check:rgoslin.install-out.txt --library=/home/biocbuild/bbs-3.20-bioc/R/site-library --timings rgoslin_1.10.0.tar.gz StartedAt: 2025-02-04 01:46:11 -0500 (Tue, 04 Feb 2025) EndedAt: 2025-02-04 01:46:50 -0500 (Tue, 04 Feb 2025) EllapsedTime: 39.0 seconds RetCode: 0 Status: OK CheckDir: rgoslin.Rcheck Warnings: 0