Package: rgoslin Version: 1.10.0 Command: F:\biocbuild\bbs-3.20-bioc\R\bin\R.exe CMD INSTALL rgoslin StartedAt: 2025-02-03 17:14:10 -0500 (Mon, 03 Feb 2025) EndedAt: 2025-02-03 17:16:40 -0500 (Mon, 03 Feb 2025) EllapsedTime: 149.7 seconds RetCode: 0 Status: OK