Package: rgoslin
Version: 1.10.0
Command: /home/biocbuild/bbs-3.20-bioc/R/bin/R CMD check --install=check:rgoslin.install-out.txt --library=/home/biocbuild/bbs-3.20-bioc/R/site-library --timings rgoslin_1.10.0.tar.gz
StartedAt: 2024-11-20 08:23:22 -0500 (Wed, 20 Nov 2024)
EndedAt: 2024-11-20 08:24:05 -0500 (Wed, 20 Nov 2024)
EllapsedTime: 42.5 seconds
RetCode: 0
Status: OK
CheckDir: rgoslin.Rcheck
Warnings: 0