Package: rgsepd Version: 1.38.0 Command: /Library/Frameworks/R.framework/Resources/bin/R CMD check --install=check:rgsepd.install-out.txt --library=/Library/Frameworks/R.framework/Resources/library --no-vignettes --timings rgsepd_1.38.0.tar.gz StartedAt: 2025-02-05 07:25:19 -0500 (Wed, 05 Feb 2025) EndedAt: 2025-02-05 07:34:42 -0500 (Wed, 05 Feb 2025) EllapsedTime: 562.7 seconds RetCode: 0 Status: OK CheckDir: rgsepd.Rcheck Warnings: 0