Package: rgsepd Version: 1.38.0 Command: chmod a+r rgsepd -R && F:\biocbuild\bbs-3.20-bioc\R\bin\R.exe CMD build --keep-empty-dirs --no-resave-data rgsepd StartedAt: 2025-02-03 21:40:01 -0500 (Mon, 03 Feb 2025) EndedAt: 2025-02-03 21:45:29 -0500 (Mon, 03 Feb 2025) EllapsedTime: 328.0 seconds RetCode: 0 Status: OK PackageFile: rgsepd_1.38.0.tar.gz PackageFileSize: 1.165 MiB