Package: rgsepd Version: 1.38.0 Command: F:\biocbuild\bbs-3.20-bioc\R\bin\R.exe CMD check --no-multiarch --install=check:rgsepd.install-out.txt --library=F:\biocbuild\bbs-3.20-bioc\R\library --no-vignettes --timings rgsepd_1.38.0.tar.gz StartedAt: 2025-02-04 05:31:24 -0500 (Tue, 04 Feb 2025) EndedAt: 2025-02-04 05:42:00 -0500 (Tue, 04 Feb 2025) EllapsedTime: 636.8 seconds RetCode: 0 Status: OK CheckDir: rgsepd.Rcheck Warnings: 0