##############################################################################
##############################################################################
###
### Running command:
###
###   chmod a+r rhdf5 -R && F:\biocbuild\bbs-3.20-bioc\R\bin\R.exe CMD build --keep-empty-dirs --no-resave-data rhdf5
###
##############################################################################
##############################################################################


* checking for file 'rhdf5/DESCRIPTION' ... OK
* preparing 'rhdf5':
* checking DESCRIPTION meta-information ... OK
* cleaning src
* running 'cleanup.win'
* installing the package to build vignettes
* creating vignettes ... OK
* cleaning src
* running 'cleanup.win'
* checking for LF line-endings in source and make files and shell scripts
* checking for empty or unneeded directories
* building 'rhdf5_2.50.2.tar.gz'
Warning: file 'rhdf5/cleanup' did not have execute permissions: corrected
Warning: file 'rhdf5/configure' did not have execute permissions: corrected