Package: rhdf5 Version: 2.50.2 Command: F:\biocbuild\bbs-3.20-bioc\R\bin\R.exe CMD INSTALL rhdf5 StartedAt: 2025-02-03 15:36:11 -0500 (Mon, 03 Feb 2025) EndedAt: 2025-02-03 15:37:58 -0500 (Mon, 03 Feb 2025) EllapsedTime: 107.6 seconds RetCode: 0 Status: OK