Package: rhdf5client
Version: 1.28.0
Command: F:\biocbuild\bbs-3.20-bioc\R\bin\R.exe CMD check --no-multiarch --install=check:rhdf5client.install-out.txt --library=F:\biocbuild\bbs-3.20-bioc\R\library --no-vignettes --timings rhdf5client_1.28.0.tar.gz
StartedAt: 2025-02-11 05:27:03 -0500 (Tue, 11 Feb 2025)
EndedAt: 2025-02-11 05:29:22 -0500 (Tue, 11 Feb 2025)
EllapsedTime: 139.8 seconds
RetCode: 0
Status: OK
CheckDir: rhdf5client.Rcheck
Warnings: 0