Package: riboSeqR
Version: 1.40.0
Maintainer: Samuel Granjeaud
MaintainerEmail: samuel.granjeaud at inserm.fr
git_url: https://git.bioconductor.org/packages/riboSeqR
git_branch: RELEASE_3_20
git_last_commit: f5236a1
git_last_commit_date: 2024-10-29 09:52:54 -0500 (Tue, 29 Oct 2024)