Package: riboSeqR Version: 1.40.0 Command: /Library/Frameworks/R.framework/Resources/bin/R CMD check --install=check:riboSeqR.install-out.txt --library=/Library/Frameworks/R.framework/Resources/library --no-vignettes --timings riboSeqR_1.40.0.tar.gz StartedAt: 2025-02-19 06:52:16 -0500 (Wed, 19 Feb 2025) EndedAt: 2025-02-19 06:54:26 -0500 (Wed, 19 Feb 2025) EllapsedTime: 129.3 seconds RetCode: 0 Status: OK CheckDir: riboSeqR.Rcheck Warnings: 0