Package: riboSeqR Version: 1.40.0 Command: /Library/Frameworks/R.framework/Resources/bin/R CMD INSTALL riboSeqR StartedAt: 2025-02-03 15:50:36 -0500 (Mon, 03 Feb 2025) EndedAt: 2025-02-03 15:51:09 -0500 (Mon, 03 Feb 2025) EllapsedTime: 32.9 seconds RetCode: 0 Status: OK