Package: riboSeqR Version: 1.40.0 Command: /home/biocbuild/bbs-3.20-bioc/R/bin/R CMD build --keep-empty-dirs --no-resave-data --md5 riboSeqR StartedAt: 2025-02-03 18:59:44 -0500 (Mon, 03 Feb 2025) EndedAt: 2025-02-03 19:00:07 -0500 (Mon, 03 Feb 2025) EllapsedTime: 23.0 seconds RetCode: 0 Status: OK PackageFile: riboSeqR_1.40.0.tar.gz PackageFileSize: 3.652 MiB