Package: riboSeqR Version: 1.40.0 Command: chmod a+r riboSeqR -R && F:\biocbuild\bbs-3.20-bioc\R\bin\R.exe CMD build --keep-empty-dirs --no-resave-data riboSeqR StartedAt: 2025-02-03 21:41:47 -0500 (Mon, 03 Feb 2025) EndedAt: 2025-02-03 21:42:36 -0500 (Mon, 03 Feb 2025) EllapsedTime: 49.0 seconds RetCode: 0 Status: OK PackageFile: riboSeqR_1.40.0.tar.gz PackageFileSize: 3.65 MiB