Package: ribor Version: 1.18.0 Command: rm -rf ribor.buildbin-libdir && mkdir ribor.buildbin-libdir && /Users/biocbuild/BBS/utils/build-universal.sh ribor_1.18.0.tar.gz /Library/Frameworks/R.framework/Resources/bin/R ribor.buildbin-libdir StartedAt: 2025-02-05 17:27:19 -0500 (Wed, 05 Feb 2025) EndedAt: 2025-02-05 17:27:31 -0500 (Wed, 05 Feb 2025) EllapsedTime: 12.2 seconds RetCode: 0 Status: OK PackageFile: ribor_1.18.0.tgz PackageFileSize: 4.829 MiB