Package: ribor Version: 1.18.0 Command: /Library/Frameworks/R.framework/Resources/bin/R CMD INSTALL ribor StartedAt: 2025-02-10 15:31:26 -0500 (Mon, 10 Feb 2025) EndedAt: 2025-02-10 15:31:36 -0500 (Mon, 10 Feb 2025) EllapsedTime: 9.2 seconds RetCode: 0 Status: OK