Package: ribor Version: 1.18.0 Command: /Library/Frameworks/R.framework/Resources/bin/R CMD INSTALL ribor StartedAt: 2025-02-03 15:20:59 -0500 (Mon, 03 Feb 2025) EndedAt: 2025-02-03 15:21:17 -0500 (Mon, 03 Feb 2025) EllapsedTime: 18.0 seconds RetCode: 0 Status: OK