Package: ribor Version: 1.18.0 Command: /home/biocbuild/R/R/bin/R CMD build --keep-empty-dirs --no-resave-data ribor StartedAt: 2025-02-04 02:16:28 -0000 (Tue, 04 Feb 2025) EndedAt: 2025-02-04 02:17:52 -0000 (Tue, 04 Feb 2025) EllapsedTime: 84.1 seconds RetCode: 0 Status: OK PackageFile: ribor_1.18.0.tar.gz PackageFileSize: 4.112 MiB