Package: ribor Version: 1.18.0 Command: /home/biocbuild/R/R/bin/R CMD check --install=check:ribor.install-out.txt --library=/home/biocbuild/R/R/site-library --no-vignettes --timings ribor_1.18.0.tar.gz StartedAt: 2025-02-04 10:25:16 -0000 (Tue, 04 Feb 2025) EndedAt: 2025-02-04 10:27:10 -0000 (Tue, 04 Feb 2025) EllapsedTime: 113.1 seconds RetCode: 0 Status: OK CheckDir: ribor.Rcheck Warnings: 0