Package: ribosomeProfilingQC
Version: 1.18.0
Command: rm -rf ribosomeProfilingQC.buildbin-libdir && mkdir ribosomeProfilingQC.buildbin-libdir && F:\biocbuild\bbs-3.20-bioc\R\bin\R.exe CMD INSTALL --build --library=ribosomeProfilingQC.buildbin-libdir ribosomeProfilingQC_1.18.0.tar.gz
StartedAt: 2025-02-14 08:54:35 -0500 (Fri, 14 Feb 2025)
EndedAt: 2025-02-14 08:58:16 -0500 (Fri, 14 Feb 2025)
EllapsedTime: 221.0 seconds
RetCode: 0
Status: OK
PackageFile: ribosomeProfilingQC_1.18.0.zip
PackageFileSize: 3.035 <A href="http://en.wikipedia.org/wiki/MiB" target="_blank">MiB</A>