Package: ribosomeProfilingQC
Version: 1.18.0
Command: chmod a+r ribosomeProfilingQC -R && F:\biocbuild\bbs-3.20-bioc\R\bin\R.exe CMD build --keep-empty-dirs --no-resave-data ribosomeProfilingQC
StartedAt: 2025-02-13 21:19:54 -0500 (Thu, 13 Feb 2025)
EndedAt: 2025-02-13 21:26:51 -0500 (Thu, 13 Feb 2025)
EllapsedTime: 417.0 seconds
RetCode: 0
Status: OK
PackageFile: ribosomeProfilingQC_1.18.0.tar.gz
PackageFileSize: 2.608 <A href="http://en.wikipedia.org/wiki/MiB" target="_blank">MiB</A>