##############################################################################
##############################################################################
###
### Running command:
###
###   /home/biocbuild/bbs-3.20-bioc/R/bin/R CMD build --keep-empty-dirs --no-resave-data ribosomeProfilingQC
###
##############################################################################
##############################################################################


* checking for file ‘ribosomeProfilingQC/DESCRIPTION’ ... OK
* preparing ‘ribosomeProfilingQC’:
* checking DESCRIPTION meta-information ... OK
* installing the package to build vignettes
* creating vignettes ... OK
* checking for LF line-endings in source and make files and shell scripts
* checking for empty or unneeded directories
Omitted ‘LazyData’ from DESCRIPTION
* building ‘ribosomeProfilingQC_1.18.0.tar.gz’