Package: rifi Version: 1.10.0 Command: /Library/Frameworks/R.framework/Resources/bin/R CMD INSTALL rifi StartedAt: 2025-02-03 17:09:45 -0500 (Mon, 03 Feb 2025) EndedAt: 2025-02-03 17:10:28 -0500 (Mon, 03 Feb 2025) EllapsedTime: 43.2 seconds RetCode: 0 Status: OK